BEGIN:VCALENDAR
VERSION:2.0
METHOD:PUBLISH
BEGIN:VEVENT
DTSTART:20200228T160000
DTEND:20200228T161000
LOCATION:5 Satinash Drive Hamlyn Terrace, NSW 2259
TRANSP: OPAQUE
SEQUENCE:0
UID:
DTSTAMP:20200225T230608Z
SUMMARY:Inspection times - BRAND NEW HOME!
DESCRIPTION:Be the first to call this 4 bedroom house a home!

Open plan tiled living features downstairs.

The kitchen features stainless steel appliances, dishwasher and underbench microwave shelf.  There is also a split-system airconditioner.

A second living area is located upstairs.

4 bedrooms upstairs each have built-in robes (walk-in robe to main) and an ensuite to the master bedroom.  A built-in study area is ideal for making homework a breeze.

There is also a single garage with remote access and internal entry.

The yard is fully enclosed.

Contact the agent now to make an appointment to view this property.
PRIORITY:1
CLASS:PUBLIC
BEGIN:VALARM
TRIGGER:-PT10080M
ACTION:DISPLAY
DESCRIPTION:Reminder
END:VALARM
END:VEVENT
END:VCALENDAR
